BEGIN:VCALENDAR
VERSION:2.0
PRODID:-//Cobre Valley Center for the Arts - ECPv6.15.20//NONSGML v1.0//EN
CALSCALE:GREGORIAN
METHOD:PUBLISH
X-WR-CALNAME:Cobre Valley Center for the Arts
X-ORIGINAL-URL:https://cobrevalleyarts.com
X-WR-CALDESC:Events for Cobre Valley Center for the Arts
REFRESH-INTERVAL;VALUE=DURATION:PT1H
X-Robots-Tag:noindex
X-PUBLISHED-TTL:PT1H
BEGIN:VTIMEZONE
TZID:Asia/Krasnoyarsk
BEGIN:STANDARD
TZOFFSETFROM:+0700
TZOFFSETTO:+0700
TZNAME:+07
DTSTART:20250101T000000
END:STANDARD
END:VTIMEZONE
BEGIN:VEVENT
DTSTART;TZID=Asia/Krasnoyarsk:20260403T150000
DTEND;TZID=Asia/Krasnoyarsk:20260430T160000
DTSTAMP:20260422T092851
CREATED:20260303T220834Z
LAST-MODIFIED:20260326T195729Z
UID:3950-1775228400-1777564800@cobrevalleyarts.com
SUMMARY:Desert Art Show 2026
DESCRIPTION:Our Desert Art Show is coming up! All artists are welcome to bring works in\, free of charge. Any sales made have 30% of proceeds going to the center. \nPlease fill these out and bring them in with your works if you are interested! \nArtist Inventory Form \nExhibiting form for event \n 
URL:https://cobrevalleyarts.com/event/desert-art-show-2026/
LOCATION:Cobre Valley Center for the Arts\, 101 N Broad St\, Globe\, AZ\, 85501\, United States
ATTACH;FMTTYPE=image/webp:https://cobrevalleyarts.com/wp-content/uploads/2026/02/641701847_960845453173218_7294060751937698852_n.webp
END:VEVENT
END:VCALENDAR