BEGIN:VCALENDAR
VERSION:2.0
PRODID:-//Cobre Valley Center for the Arts - ECPv6.15.20//NONSGML v1.0//EN
CALSCALE:GREGORIAN
METHOD:PUBLISH
X-WR-CALNAME:Cobre Valley Center for the Arts
X-ORIGINAL-URL:https://cobrevalleyarts.com
X-WR-CALDESC:Events for Cobre Valley Center for the Arts
REFRESH-INTERVAL;VALUE=DURATION:PT1H
X-Robots-Tag:noindex
X-PUBLISHED-TTL:PT1H
BEGIN:VTIMEZONE
TZID:Asia/Krasnoyarsk
BEGIN:STANDARD
TZOFFSETFROM:+0700
TZOFFSETTO:+0700
TZNAME:+07
DTSTART:20240101T000000
END:STANDARD
END:VTIMEZONE
BEGIN:VTIMEZONE
TZID:UTC
BEGIN:STANDARD
TZOFFSETFROM:+0000
TZOFFSETTO:+0000
TZNAME:UTC
DTSTART:20220101T000000
END:STANDARD
END:VTIMEZONE
BEGIN:VTIMEZONE
TZID:America/Phoenix
BEGIN:STANDARD
TZOFFSETFROM:-0700
TZOFFSETTO:-0700
TZNAME:MST
DTSTART:20230101T000000
END:STANDARD
END:VTIMEZONE
BEGIN:VEVENT
DTSTART;TZID=Asia/Krasnoyarsk:20251129T190000
DTEND;TZID=Asia/Krasnoyarsk:20251129T203000
DTSTAMP:20260422T050608
CREATED:20251123T221323Z
LAST-MODIFIED:20251123T221435Z
UID:3792-1764442800-1764448200@cobrevalleyarts.com
SUMMARY:Improv Comedy Show
DESCRIPTION:Coming up November 29\, 2025 is the Thanksgiving Leftovers Improv Show at the Old Courthouse Theater at Cobre Valley Center for the Arts. Admission is a mere $5. \nThere have been three Improv shows at the theater this year\, but this is the FIRST to feature graduates of Copper Planet Improv’s “Improv 101” class. There will also be Improv pros shuttling in from the Phoenix area\, plus chances for the audience to get involved in the show. \nIf you’ve never experienced a live improv comedy show\, now is your chance.  (And you can’t beat the price). $5
URL:https://cobrevalleyarts.com/event/improv-comedy-show/
ATTACH;FMTTYPE=image/webp:https://cobrevalleyarts.com/wp-content/uploads/2025/11/Flier-for-improv-show-11-29-25.webp
END:VEVENT
BEGIN:VEVENT
DTSTART;TZID=Asia/Krasnoyarsk:20251115T150000
DTEND;TZID=Asia/Krasnoyarsk:20251115T170000
DTSTAMP:20260422T050608
CREATED:20251031T211211Z
LAST-MODIFIED:20251119T145855Z
UID:3656-1763218800-1763226000@cobrevalleyarts.com
SUMMARY:Wanda Mitchell Tucker - Ivan Macarambon artist opening showcase
DESCRIPTION:Join us on Saturday\, November 15th for a double feature Artist Opening showcasing the works of Wanda Mitchell-Tucker and Ivan Macarambon! We will be open from 10am until 6pm.\nThe event will formally run from 3PM until 5PM.\n\n  \nAll are welcome\, the event is free to attend!
URL:https://cobrevalleyarts.com/event/wanda-mitchell-tucker-ivan-macarambon-artist-opening-showcase/
LOCATION:Cobre Valley Center for the Arts\, 101 N Broad St\, Globe\, AZ\, 85501\, United States
END:VEVENT
BEGIN:VEVENT
DTSTART;TZID=UTC:20251024T150000
DTEND;TZID=UTC:20251024T160000
DTSTAMP:20260422T050608
CREATED:20250919T144008Z
LAST-MODIFIED:20251110T153457Z
UID:3403-1761318000-1761321600@cobrevalleyarts.com
SUMMARY:William Andoni Presents: Imagination Fashion Show
DESCRIPTION:  \nWilliam Andoni will be showcasing a collection of 20 outfits\, modelled here on our 2nd floor! The event is free\, but donations are welcome and appreciated. It will be right after the Homecoming parade\, from 2-4PM. \nAnyone under 18 needs a parent or guardian. Some refreshments will be provided. \nThe theme is imagination.
URL:https://cobrevalleyarts.com/event/william-andoni-presents-imagination-fashion-show/
ATTACH;FMTTYPE=image/webp:https://cobrevalleyarts.com/wp-content/uploads/2025/09/Maison-Mandoni.webp
END:VEVENT
BEGIN:VEVENT
DTSTART;TZID=UTC:20250510T140000
DTEND;TZID=UTC:20250510T160000
DTSTAMP:20260422T050608
CREATED:20250501T123422Z
LAST-MODIFIED:20251121T232058Z
UID:3387-1746885600-1746892800@cobrevalleyarts.com
SUMMARY:Mother's Day Tea
DESCRIPTION:The Copper Cities Community Players invite you to celebrate Mom’s special day in style on Saturday\, May 10 at 2pm. Bring your mother (or grandmother or mother-in-law) for an elegant afternoon tea paired with live theatrical entertainment featuring songs\, poetry\, skits\, and plenty of surprises.\n\n\n\nTickets are $30. Reserve your seats by calling the Cobre Valley Center for the Arts at 928-425-0884.
URL:https://cobrevalleyarts.com/event/mothers-day-tea/
LOCATION:Old Courthouse Theater – Cobre Valley Center for the Arts
ATTACH;FMTTYPE=image/webp:https://cobrevalleyarts.com/wp-content/uploads/2025/05/3.22-x-5-ad-for-CCN-and-SB-2.webp
END:VEVENT
BEGIN:VEVENT
DTSTART;TZID=UTC:20250404T150000
DTEND;TZID=UTC:20250404T183000
DTSTAMP:20260422T050608
CREATED:20250401T122220Z
LAST-MODIFIED:20260303T215208Z
UID:3384-1743778800-1743791400@cobrevalleyarts.com
SUMMARY:Desert Art Show
DESCRIPTION:Visit us for a community show with the theme of Desert Art! We have pieces brought in from the community as well as our own members. The show will run from April 4th through the end of April
URL:https://cobrevalleyarts.com/event/desert-art-show/
LOCATION:Cobre Valley Center for the Arts\, 101 N Broad St\, Globe\, AZ\, 85501\, United States
END:VEVENT
BEGIN:VEVENT
DTSTART;TZID=UTC:20250207T140000
DTEND;TZID=UTC:20250309T190000
DTSTAMP:20260422T050608
CREATED:20250127T150422Z
LAST-MODIFIED:20260303T215548Z
UID:3312-1738936800-1741546800@cobrevalleyarts.com
SUMMARY:Doug Brannan Show
DESCRIPTION:A Return of the Robots! Doug Brannan’s show will be hosted between February 7th and March 9th in our Northern gallery. This is a followup to a previous show from several years ago
URL:https://cobrevalleyarts.com/event/doug-brannan-show/
LOCATION:Cobre Valley Center for the Arts\, 101 N Broad St\, Globe\, AZ\, 85501\, United States
END:VEVENT
BEGIN:VEVENT
DTSTART;TZID=UTC:20250206T183000
DTEND;TZID=UTC:20250206T203000
DTSTAMP:20260422T050608
CREATED:20250203T122518Z
LAST-MODIFIED:20260303T215352Z
UID:3319-1738866600-1738873800@cobrevalleyarts.com
SUMMARY:Open Auditions for Copper Cities Community Players
DESCRIPTION:Have you  dreamed of acting\, singing\, dancing\, or showcasing your performance skills on stage? Well\, this is your chance. Whether you are young\, old\, or anywhere in between\, we invite you to join us on Thursday\, February 6 at 6:30 PM at the Old Courthouse Theater at the Cobre Valley Center for the Arts.\n\nAnd if performing isn’t your bag\, there are also plenty of opportunities to participate backstage. These include stage managing\, set design and building\, wardrobe\, props\, makeup and other “behind-the-scenes” opportunities.\n\nCome one. Come all.\n\nPlease contact JoNell at 928-425-8111 for more info.\n\nwww.cobrevalleyarts.com
URL:https://cobrevalleyarts.com/event/open-auditions-for-copper-cities-community-players/
LOCATION:Old Courthouse Theater – Cobre Valley Center for the Arts
END:VEVENT
BEGIN:VEVENT
DTSTART;TZID=UTC:20250201T183000
DTEND;TZID=UTC:20250201T220000
DTSTAMP:20260422T050608
CREATED:20250122T120719Z
LAST-MODIFIED:20260303T215553Z
UID:3304-1738434600-1738447200@cobrevalleyarts.com
SUMMARY:Centennial Band Valentine's Dance
DESCRIPTION:The Centennial Band is hosting a fundraiser Valentine’s Dance on Saturday\, February 1st. Music will be from 7-10PM with the doors opening at 6:30PM \nTickets are $25\, give us a call or arrive in person to reserve yours. The Centennial Band is a nonprofit\, all volunteer community band.
URL:https://cobrevalleyarts.com/event/centennial-band-valentines-dance/
LOCATION:Third Floor\, Cobre Valley Center for the Arts\, Globe\, AZ\, United States
END:VEVENT
BEGIN:VEVENT
DTSTART;TZID=UTC:20250201T100000
DTEND;TZID=UTC:20250301T160000
DTSTAMP:20260422T050608
CREATED:20250122T124435Z
LAST-MODIFIED:20250122T124435Z
UID:3310-1738404000-1740844800@cobrevalleyarts.com
SUMMARY:2025 Quilting Show
DESCRIPTION:The Copper Country Quilters are hosting a quilt show from February 15th to March 1st in our Gallery! There will be an opportunity quilt for raffle with tickets that are only $1 each\, or 6 tickets for $5. The raffle will run until the County Fair this September\n\n\nThis show is open to any quilters in the community. If you or someone you know is a quilter\, please fill out an entry form. Contact Maria Melandez for more information (Phone # in the attached photo)
URL:https://cobrevalleyarts.com/event/2025-quilting-show/
LOCATION:Cobre Valley Center for the Arts\, 101 N Broad St\, Globe\, AZ\, 85501\, United States
END:VEVENT
BEGIN:VEVENT
DTSTART;TZID=UTC:20241207T190000
DTEND;TZID=UTC:20241207T190000
DTSTAMP:20260422T050608
CREATED:20241113T132212Z
LAST-MODIFIED:20241117T120058Z
UID:3246-1733598000-1733598000@cobrevalleyarts.com
SUMMARY:Christmas on the Orient Express
DESCRIPTION:Fresh off their performance in October\, the entire cast of Murder on the Orient Express returns to the stage to bring you a song-filled Christmas celebration. \n\n\n\nJoin the Copper Cities Community Players for this special holiday Gala performance on December 7 at 6 pm. Curtain time is 7 pm. It all takes place at the Old Courthouse Theater on the third floor of Cobre Valley Center for the Arts. \nGet your tickets at the Cobre Valley Center for the Arts or by calling 928-425-0884. \nGet more details about the show HERE. \n\n\n\n\n\n 
URL:https://cobrevalleyarts.com/event/christmas-on-the-orient-express-2/
ATTACH;FMTTYPE=image/webp:https://cobrevalleyarts.com/wp-content/uploads/2024/11/Christmas-on-OE-poster-2024-3-800x-3.webp
END:VEVENT
BEGIN:VEVENT
DTSTART;TZID=UTC:20241206T190000
DTEND;TZID=UTC:20241206T210000
DTSTAMP:20260422T050608
CREATED:20241110T102446Z
LAST-MODIFIED:20241113T133000Z
UID:3220-1733511600-1733518800@cobrevalleyarts.com
SUMMARY:Christmas on the Orient Express
DESCRIPTION:Fresh off their performance in October\, the entire cast of Murder on the Orient Express returns to the stage to bring you a song-filled Christmas celebration. \n\n\n\nJoin the Copper Cities Community Players for this holiday performance on December 6 & 7 at 7pm. It all takes place at the Old Courthouse Theater on the third floor of Cobre Valley Center for the Arts. \nGet your tickets at the Cobre Valley Center for the Arts or by calling 928-425-0884. \nFind about more about the show HERE. \n\n\n.
URL:https://cobrevalleyarts.com/event/christmas-on-the-orient-express/
ATTACH;FMTTYPE=image/webp:https://cobrevalleyarts.com/wp-content/uploads/2024/11/Christmas-on-OE-poster-2024-3-800x-3.webp
END:VEVENT
BEGIN:VEVENT
DTSTART;TZID=UTC:20241025T190000
DTEND;TZID=UTC:20241025T210000
DTSTAMP:20260422T050608
CREATED:20240929T103347Z
LAST-MODIFIED:20241010T072515Z
UID:3122-1729882800-1729890000@cobrevalleyarts.com
SUMMARY:Murder on the Orient Express
DESCRIPTION:The Copper Cities Community Players present Agatha Christie’s Murder on the Orient Express. This intricate  whodunnit is packed with a trainload of intrigue with plot twists that will keep you guessing till the end. \nShow times are Friday\, October 11\, Saturday\, 12 at 7pm with a 2 pm matinee on Sunday\, October 13. \nPerformances skip a weekend and then return on Thursday\, October 24 at 7 pm with a gala performance on Friday\, October 25. \nAll performance are at the Old Courthouse Theater on the third floor of the Cobre Valley Center for the Arts. \nTickets are $25 ($30 for the gala performance on Oct. 25). Tickets are available at the Center or by calling JoNell Brantley at 928.425.8111. There will also be a limited number of tickets available for purchase at the door.
URL:https://cobrevalleyarts.com/event/murder-on-the-orient-express-5/
LOCATION:Cobre Valley Center for the Arts\, 101 N Broad St\, Globe\, AZ\, 85501\, United States
END:VEVENT
BEGIN:VEVENT
DTSTART;TZID=UTC:20241024T190000
DTEND;TZID=UTC:20241025T210000
DTSTAMP:20260422T050608
CREATED:20240929T103919Z
LAST-MODIFIED:20241003T105629Z
UID:3124-1729796400-1729890000@cobrevalleyarts.com
SUMMARY:Murder on the Orient Express
DESCRIPTION:For their upcoming fall production\, the Copper Cities Community Players present Agatha Christie’s Murder on the Orient Express. This intricate  whodunnit is packed with a trainload of intrigue with plot twists that will keep you guessing till the end. \nShow times are Friday\, October 11\, Saturday\, 12 at 7pm with a 2 pm matinee on Sunday\, October 13. \nPerformances skip a weekend and then return on Thursday\, October 24 at 7 pm with a gala performance on Friday\, October 25. \nAll performance are at the Old Courthouse Theater on the third floor of the Cobre Valley Center for the Arts. \nTickets are available at the Center or by calling JoNell Brantley at 928.425.8111. There will also be a limited number of tickets available at the door.
URL:https://cobrevalleyarts.com/event/murder-on-the-orient-express-4/
LOCATION:Cobre Valley Center for the Arts\, 101 N Broad St\, Globe\, AZ\, 85501\, United States
END:VEVENT
BEGIN:VEVENT
DTSTART;TZID=UTC:20241013T140000
DTEND;TZID=UTC:20241013T160000
DTSTAMP:20260422T050608
CREATED:20240929T103109Z
LAST-MODIFIED:20241003T105655Z
UID:3118-1728828000-1728835200@cobrevalleyarts.com
SUMMARY:Murder on the Orient Express
DESCRIPTION:For their upcoming fall production\, the Copper Cities Community Players present Agatha Christie’s Murder on the Orient Express. This intricate  whodunnit is packed with a trainload of intrigue with plot twists that will keep you guessing till the end. \nShow times are Friday\, October 11\, Saturday\, 12 at 7pm with a 2 pm matinee on Sunday\, October 13. \nPerformances skip a weekend and then return on Thursday\, October 24 at 7 pm with a gala performance on Friday\, October 25. \nAll performance are at the Old Courthouse Theater on the third floor of the Cobre Valley Center for the Arts. \nTickets are available at the Center or by calling JoNell Brantley at 928.425.8111. There will also be a limited number of tickets available at the door.
URL:https://cobrevalleyarts.com/event/murder-on-the-orient-express-3/
LOCATION:Cobre Valley Center for the Arts\, 101 N Broad St\, Globe\, AZ\, 85501\, United States
END:VEVENT
BEGIN:VEVENT
DTSTART;TZID=UTC:20241012T190000
DTEND;TZID=UTC:20241012T210000
DTSTAMP:20260422T050608
CREATED:20240929T102855Z
LAST-MODIFIED:20241003T105723Z
UID:3116-1728759600-1728766800@cobrevalleyarts.com
SUMMARY:Murder on the Orient Express
DESCRIPTION:For their upcoming fall production\, the Copper Cities Community Players present Agatha Christie’s Murder on the Orient Express. This intricate  whodunnit is packed with a trainload of intrigue with plot twists that will keep you guessing till the end. \nShow times are Friday\, October 11\, Saturday\, 12 at 7pm with a 2 pm matinee on Sunday\, October 13. \nPerformances skip a weekend and then return on Thursday\, October 24 at 7 pm with a gala performance on Friday\, October 25. \nAll performance are at the Old Courthouse Theater on the third floor of the Cobre Valley Center for the Arts. \nTickets are available at the Center or by calling JoNell Brantley at 928.425.8111. There will also be a limited number of tickets available at the door.
URL:https://cobrevalleyarts.com/event/murder-on-the-orient-express-2/
LOCATION:Cobre Valley Center for the Arts\, 101 N Broad St\, Globe\, AZ\, 85501\, United States
END:VEVENT
BEGIN:VEVENT
DTSTART;TZID=UTC:20241012T144500
DTEND;TZID=UTC:20241012T160000
DTSTAMP:20260422T050608
CREATED:20241003T110525Z
LAST-MODIFIED:20241003T112734Z
UID:3133-1728744300-1728748800@cobrevalleyarts.com
SUMMARY:Globe's Tragic 1904 Flood - A Dramatic Re-enactment
DESCRIPTION:On a seemingly tranquil August afternoon in 1904\, the sky above the Pinal Mountains darkened as a fierce summer storm unleashed an extraordinary flood\, transforming the once-dry Pinal Creek into a torrent of fast-moving water.\n\nSix unsuspecting Globe residents who lived along the creek faced a terrifying fate as this flash flood swept them away. Each of these victims has their own their own unique story to tell\, reimagined and performed by the Copper Cities Community Players.\n\nJoin us for two performances on October 12 at 1pm and 2:45pm as the Players breathe life into this tragic moment in history\, reminding us of the power of nature and the fragility of life.\n\nCobre Valley Center for the ArtsOld Courthouse Theater\, Third Floor\nThe performance is free. $5 donation accepted.
URL:https://cobrevalleyarts.com/event/globes-tragic-1904-flood-2/
LOCATION:Old Courthouse Theater – Cobre Valley Center for the Arts
END:VEVENT
BEGIN:VEVENT
DTSTART;TZID=UTC:20241012T130000
DTEND;TZID=UTC:20241012T140000
DTSTAMP:20260422T050608
CREATED:20241003T105953Z
LAST-MODIFIED:20241003T112656Z
UID:3131-1728738000-1728741600@cobrevalleyarts.com
SUMMARY:Globe's Tragic 1904 Flood - A Dramatic Re-enactment
DESCRIPTION:On a seemingly tranquil August afternoon in 1904\, the sky above the Pinal Mountains darkened as a fierce summer storm unleashed an extraordinary flood\, transforming the once-dry Pinal\nCreek into a torrent of fast-moving water.\n\nSix unsuspecting Globe residents who lived along the creek faced a terrifying fate as this flash flood swept them away. Each of these victims has their own their own unique story to tell\, reimagined and performed by the Copper Cities Community Players.\n\nJoin us for two performances on October 12 at 1pm and 2:45pm as the Players breathe life into this tragic moment in history\, reminding us of the power of nature and the fragility of life.\n\nCobre Valley Center for the ArtsOld Courthouse Theater\, Third Floor\nThe performance is free. $5 donation accepted.
URL:https://cobrevalleyarts.com/event/globes-tragic-1904-flood/
LOCATION:Old Courthouse Theater – Cobre Valley Center for the Arts
END:VEVENT
BEGIN:VEVENT
DTSTART;TZID=UTC:20241011T190000
DTEND;TZID=UTC:20241011T210000
DTSTAMP:20260422T050608
CREATED:20240927T091430Z
LAST-MODIFIED:20241010T071814Z
UID:3106-1728673200-1728680400@cobrevalleyarts.com
SUMMARY:Murder on the Orient Express
DESCRIPTION:MURDER ON THE ORIENT EXPRESS\nThe Copper Cities Community Players present Agatha Christie’s Murder on the Orient Express. This intricate  whodunnit is packed with a trainload of intrigue with plot twists that will keep you guessing till the end. \nWritten for the stage by Ken Ludwig and directed by JoNell Brantley\, Murder on the Orient Express features an eclectic manifest of passengers who all have their share of secrets. When one of them is brutally murdered\, it’s up to world-renowned detective\, Hercule Poirot\, to apply his acclaimed skills to expose the killer. \nShow times are Friday\, October 11\, Saturday\, 12 at 7pm with a 2 pm matinee on Sunday\, October 13. \nPerformances skip a weekend and then return on Thursday\, October 24 at 7 pm with a gala performance on Friday\, October 25. \nAll performance are at the Old Courthouse Theater on the third floor of the Cobre Valley Center for the Arts. \nTickets are $25 (gala performance $30) and available at the Center or by calling JoNell Brantley at 928.425.8111. A limited number of tickets will be available for purchase at he door.
URL:https://cobrevalleyarts.com/event/murder-on-the-orient-express/
LOCATION:Cobre Valley Center for the Arts\, 101 N Broad St\, Globe\, AZ\, 85501\, United States
END:VEVENT
BEGIN:VEVENT
DTSTART;TZID=UTC:20240627T190000
DTEND;TZID=UTC:20240629T230000
DTSTAMP:20260422T050608
CREATED:20240626T102829Z
LAST-MODIFIED:20240626T103008Z
UID:3078-1719514800-1719702000@cobrevalleyarts.com
SUMMARY:Copper Opry: A Country Music Experience
DESCRIPTION:Tickets are available for: \n-Thursday 6/27\, 7PM \n-Friday 6/28\, 7PM \n-Saturday 6/29\, 7PM \n$20 per person. Give us a call at 928-425-0884 to reserve yours!
URL:https://cobrevalleyarts.com/event/copper-opry-a-country-music-experience/
LOCATION:Third Floor\, Cobre Valley Center for the Arts\, Globe\, AZ\, United States
ATTACH;FMTTYPE=image/jpeg:https://cobrevalleyarts.com/wp-content/uploads/2024/06/Copper-Opry-poster.jpeg
END:VEVENT
BEGIN:VEVENT
DTSTART;VALUE=DATE:20240511
DTEND;VALUE=DATE:20240512
DTSTAMP:20260422T050608
CREATED:20240404T144313Z
LAST-MODIFIED:20240404T144313Z
UID:3025-1715385600-1715471999@cobrevalleyarts.com
SUMMARY:Mother's Day Tea and Show
DESCRIPTION:Time: TBD
URL:https://cobrevalleyarts.com/event/mothers-day-tea-and-show/
END:VEVENT
BEGIN:VEVENT
DTSTART;VALUE=DATE:20240414
DTEND;VALUE=DATE:20240415
DTSTAMP:20260422T050608
CREATED:20240404T144126Z
LAST-MODIFIED:20240404T144126Z
UID:3022-1713052800-1713139199@cobrevalleyarts.com
SUMMARY:Memorial for Marian Reams
DESCRIPTION:Time: TBD
URL:https://cobrevalleyarts.com/event/memorial-for-marian-reams/
LOCATION:The Governor’s Room\, 101N Broad St\, Globe\, AZ\, United States
END:VEVENT
BEGIN:VEVENT
DTSTART;TZID=UTC:20240411T180000
DTEND;TZID=UTC:20240411T200000
DTSTAMP:20260422T050608
CREATED:20240404T144418Z
LAST-MODIFIED:20240404T144418Z
UID:3027-1712858400-1712865600@cobrevalleyarts.com
SUMMARY:Cobre Valley Center for the Arts Annual Members Meeting
DESCRIPTION:
URL:https://cobrevalleyarts.com/event/cobre-valley-center-for-the-arts-annual-members-meeting/
LOCATION:The Governor’s Room\, 101N Broad St\, Globe\, AZ\, United States
END:VEVENT
BEGIN:VEVENT
DTSTART;TZID=UTC:20240405T150000
DTEND;TZID=UTC:20240405T170000
DTSTAMP:20260422T050608
CREATED:20240404T144626Z
LAST-MODIFIED:20240404T144626Z
UID:3029-1712329200-1712336400@cobrevalleyarts.com
SUMMARY:Desert Wildflower Art Show Opening Reception
DESCRIPTION:
URL:https://cobrevalleyarts.com/event/desert-wildflower-art-show-opening-reception/
LOCATION:Third Floor\, Cobre Valley Center for the Arts\, Globe\, AZ\, United States
END:VEVENT
BEGIN:VEVENT
DTSTART;TZID=UTC:20240217T110000
DTEND;TZID=UTC:20240217T140000
DTSTAMP:20260422T050608
CREATED:20240404T143802Z
LAST-MODIFIED:20240404T143802Z
UID:3020-1708167600-1708178400@cobrevalleyarts.com
SUMMARY:Quilt Show Reception
DESCRIPTION:The Quilters are here! Stop by and check out the quilt show here at the Center for the Arts. Reception is on Saturday the 17th\, 11AM – 2PM but you can view the displays any time between now and March 2nd.\n\n\nPick up some raffle tickets for the opportunity quilt if you’d like a chance at it\, it’s a whopping 8 and a half feet long!\n\n\n$1 for 1 ticket\n$5 for 6\n$20 for 25
URL:https://cobrevalleyarts.com/event/quilt-show-reception/
LOCATION:Cobre Valley Center for the Arts\, 101 N Broad St\, Globe\, AZ\, 85501\, United States
END:VEVENT
BEGIN:VEVENT
DTSTART;TZID=America/Phoenix:20240210T190000
DTEND;TZID=America/Phoenix:20240210T220000
DTSTAMP:20260422T050608
CREATED:20240209T233127Z
LAST-MODIFIED:20240210T012523Z
UID:2909-1707591600-1707602400@cobrevalleyarts.com
SUMMARY:Swing Dance Party and Fundraiser
DESCRIPTION:
URL:https://cobrevalleyarts.com/event/swing-dance-party-and-fundraiser/
LOCATION:Third Floor\, Cobre Valley Center for the Arts\, Globe\, AZ\, United States
END:VEVENT
BEGIN:VEVENT
DTSTART;TZID=UTC:20240202T150000
DTEND;TZID=UTC:20240202T170000
DTSTAMP:20260422T050608
CREATED:20240210T004751Z
LAST-MODIFIED:20240210T004751Z
UID:2916-1706886000-1706893200@cobrevalleyarts.com
SUMMARY:Art Show Closing Ceremony
DESCRIPTION:Join us for our closing ceremonies for our current cohort of exhibits and community art show. Expect a few refreshments as we close out the gallery for Rachel Hansen\, Lorenzo Cassa\, Bobbie Jimenez\, Chris Swinney and Bryan Chambers.
URL:https://cobrevalleyarts.com/event/art-show-closing-ceremony/
END:VEVENT
BEGIN:VEVENT
DTSTART;TZID=UTC:20231217T173000
DTEND;TZID=UTC:20231217T193000
DTSTAMP:20260422T050608
CREATED:20231215T143558Z
LAST-MODIFIED:20231215T143558Z
UID:2525-1702834200-1702841400@cobrevalleyarts.com
SUMMARY:Las Posadas
DESCRIPTION:Christmas 2023 Theatrical Production
URL:https://cobrevalleyarts.com/event/las-posadas/
END:VEVENT
BEGIN:VEVENT
DTSTART;TZID=UTC:20231104T180000
DTEND;TZID=UTC:20231104T180000
DTSTAMP:20260422T050608
CREATED:20231215T144101Z
LAST-MODIFIED:20231215T160302Z
UID:2528-1699120800-1699120800@cobrevalleyarts.com
SUMMARY:Broad Street Does Broadway
DESCRIPTION:A musical revue by the Copper Cities Community Players
URL:https://cobrevalleyarts.com/event/broad-street-does-broadway/
END:VEVENT
BEGIN:VEVENT
DTSTART;TZID=UTC:20230722T190000
DTEND;TZID=UTC:20230722T210000
DTSTAMP:20260422T050608
CREATED:20240210T010150Z
LAST-MODIFIED:20240210T010150Z
UID:2923-1690052400-1690059600@cobrevalleyarts.com
SUMMARY:The Spongebob Musical Youth Edition
DESCRIPTION:
URL:https://cobrevalleyarts.com/event/the-spongebob-musical-youth-edition-3/
LOCATION:Cobre Valley Center for the Arts\, 101 N Broad St\, Globe\, AZ\, 85501\, United States
END:VEVENT
BEGIN:VEVENT
DTSTART;TZID=UTC:20230721T190000
DTEND;TZID=UTC:20230721T210000
DTSTAMP:20260422T050608
CREATED:20240210T010018Z
LAST-MODIFIED:20240210T010018Z
UID:2921-1689966000-1689973200@cobrevalleyarts.com
SUMMARY:The Spongebob Musical Youth Edition
DESCRIPTION:
URL:https://cobrevalleyarts.com/event/the-spongebob-musical-youth-edition-2/
LOCATION:Cobre Valley Center for the Arts\, 101 N Broad St\, Globe\, AZ\, 85501\, United States
END:VEVENT
END:VCALENDAR